BEGIN:VCALENDAR
VERSION:2.0
PRODID:-//The Local Culture - ECPv6.15.20//NONSGML v1.0//EN
CALSCALE:GREGORIAN
METHOD:PUBLISH
X-ORIGINAL-URL:https://www.thelocalculture.co.za
X-WR-CALDESC:Events for The Local Culture
REFRESH-INTERVAL;VALUE=DURATION:PT1H
X-Robots-Tag:noindex
X-PUBLISHED-TTL:PT1H
BEGIN:VTIMEZONE
TZID:UTC
BEGIN:STANDARD
TZOFFSETFROM:+0000
TZOFFSETTO:+0000
TZNAME:UTC
DTSTART:20240101T000000
END:STANDARD
END:VTIMEZONE
BEGIN:VEVENT
DTSTART;TZID=UTC:20250809T113000
DTEND;TZID=UTC:20250809T113000
DTSTAMP:20260420T104403
CREATED:20250718T073842Z
LAST-MODIFIED:20250718T212118Z
UID:52422-1754739000-1754739000@www.thelocalculture.co.za
SUMMARY:Gourmet Braai at TLC@KEP
DESCRIPTION:Gourmet Braai at TLC@KEP\n\n\n\nCelebrate Women’s Day with us and Kosmaak & Kôkpraat\n\n\n\n\n\n\n\n\n\n\n\n\nBuy Tickets\n\n\n\n\n\n\n\n\nJoin us for a fireside feast with Kosmaak & Kôkpraat — two #tannieswatbraai bringing flavour\, laughs\, and real Jozi soul.  \n\n\n\nGreat food\, local wine\, strong women\, and lekker vibes. Bring your people — we’ll bring the fire. \n\n\n\n	\n\n		\n					\n\n				\n\n				\n				\n\n					\n\n					\n						\n						\n						\n						\n							\n\n																\n																												\n																									                	Saturday\, 9 August 2025\n							                							                							                							                							                	\n											\n											Book Now											\n										\n							                						        	\n						        	\n													\n						\n					\n					\n\n						   	 \n				\n					\n			\n				\n\n					\n\n					\n						\n						\n													 \n												\n						\n							\n\n																\n																												\n																									                	Plus\, enjoy a laid-back Spier wine tasting in the sunshine\n							                							                							                							                						        	\n						        	\n														\n													\n						\n					\n					\n\n						   	 \n				\n					\n			\n				\n\n					\n\n					\n						\n						\n						\n						\n							\n\n																\n																												\n																									                	TLC@KEP\, Kyalami Equestrian Park\n							                							                							                							                							                	\n											\n											Get Directions
URL:https://www.thelocalculture.co.za/event/womens-day-lunch-gourmet-braai/
LOCATION:TLC@KEP\, 1 Dahlia Road\, Witpoort\, Johannesburg\, Gauteng\, 1684\, South Africa
CATEGORIES:Special Occasions,TLC@KEP
ATTACH;FMTTYPE=image/jpeg:https://www.thelocalculture.co.za/wp-content/uploads/2025/07/womens-day-lunch-2025.jpg
ORGANIZER;CN="TLC@KEP":MAILTO:booktlckep@thelocalculture.co.za
END:VEVENT
END:VCALENDAR